BEGIN:VCALENDAR
VERSION:2.0
PRODID:-//松本 井上百貨店  アイシティ21&lt;公式サイト&gt; - ECPv6.15.20//NONSGML v1.0//EN
CALSCALE:GREGORIAN
METHOD:PUBLISH
X-WR-CALNAME:松本 井上百貨店  アイシティ21&lt;公式サイト&gt;
X-ORIGINAL-URL:https://www.inouedp.co.jp
X-WR-CALDESC:松本 井上百貨店  アイシティ21&lt;公式サイト&gt; のイベント
REFRESH-INTERVAL;VALUE=DURATION:PT1H
X-Robots-Tag:noindex
X-PUBLISHED-TTL:PT1H
BEGIN:VTIMEZONE
TZID:Asia/Tokyo
BEGIN:STANDARD
TZOFFSETFROM:+0900
TZOFFSETTO:+0900
TZNAME:JST
DTSTART:20250101T000000
END:STANDARD
END:VTIMEZONE
BEGIN:VEVENT
DTSTART;VALUE=DATE:20260416
DTEND;VALUE=DATE:20260423
DTSTAMP:20260422T203357
CREATED:20260330T042748Z
LAST-MODIFIED:20260330T042748Z
UID:10366-1776297600-1776902399@www.inouedp.co.jp
SUMMARY:倉敷スタイル
DESCRIPTION:1階モール中央特設会場
URL:https://www.inouedp.co.jp/eventguide/%e5%80%89%e6%95%b7%e3%82%b9%e3%82%bf%e3%82%a4%e3%83%ab-2/
END:VEVENT
BEGIN:VEVENT
DTSTART;VALUE=DATE:20260418
DTEND;VALUE=DATE:20260518
DTSTAMP:20260422T203357
CREATED:20260330T043040Z
LAST-MODIFIED:20260330T043040Z
UID:10370-1776470400-1779062399@www.inouedp.co.jp
SUMMARY:パンどろぼう展
DESCRIPTION:3階山形ウェルアップホール
URL:https://www.inouedp.co.jp/eventguide/%e3%83%91%e3%83%b3%e3%81%a9%e3%82%8d%e3%81%bc%e3%81%86%e5%b1%95/
END:VEVENT
END:VCALENDAR